Package: ReactomeGraph4R Version: 1.17.1 Command: /home/biocbuild/bbs-3.22-bioc/R/bin/R CMD INSTALL ReactomeGraph4R StartedAt: 2025-07-24 16:11:52 -0400 (Thu, 24 Jul 2025) EndedAt: 2025-07-24 16:11:52 -0400 (Thu, 24 Jul 2025) EllapsedTime: 0.2 seconds RetCode: 1 Status: ERROR