Package: ReactomeGraph4R Version: 1.17.1 Command: /home/biocbuild/bbs-3.22-bioc/R/bin/R CMD build --keep-empty-dirs --no-resave-data --md5 ReactomeGraph4R StartedAt: 2025-07-24 18:53:30 -0400 (Thu, 24 Jul 2025) EndedAt: 2025-07-24 18:53:31 -0400 (Thu, 24 Jul 2025) EllapsedTime: 1.0 seconds RetCode: 1 Status: ERROR PackageFile: None PackageFileSize: NA