Package: ReactomeGraph4R Version: 1.15.0 Command: /Library/Frameworks/R.framework/Resources/bin/R CMD build --keep-empty-dirs --no-resave-data ReactomeGraph4R StartedAt: 2025-02-03 18:04:10 -0500 (Mon, 03 Feb 2025) EndedAt: 2025-02-03 18:04:33 -0500 (Mon, 03 Feb 2025) EllapsedTime: 22.9 seconds RetCode: 0 Status: OK PackageFile: ReactomeGraph4R_1.15.0.tar.gz PackageFileSize: 942.2 KiB