Package: ReactomeGraph4R Version: 1.17.0 Command: /Library/Frameworks/R.framework/Resources/bin/R CMD build --keep-empty-dirs --no-resave-data ReactomeGraph4R StartedAt: 2025-05-22 17:16:26 -0400 (Thu, 22 May 2025) EndedAt: 2025-05-22 17:16:27 -0400 (Thu, 22 May 2025) EllapsedTime: 1.0 seconds RetCode: 1 Status: ERROR PackageFile: None PackageFileSize: NA