Package: ReactomeGSA Version: 1.23.0 Command: /home/biocbuild/bbs-3.22-bioc/R/bin/R CMD INSTALL ReactomeGSA StartedAt: 2025-07-25 18:06:03 -0400 (Fri, 25 Jul 2025) EndedAt: 2025-07-25 18:06:12 -0400 (Fri, 25 Jul 2025) EllapsedTime: 8.2 seconds RetCode: 0 Status: OK