Package: ReactomeGSA Version: 1.23.0 Command: /home/biocbuild/bbs-3.22-bioc/R/bin/R CMD build --keep-empty-dirs --no-resave-data --md5 ReactomeGSA StartedAt: 2025-07-25 21:00:22 -0400 (Fri, 25 Jul 2025) EndedAt: 2025-07-25 21:05:48 -0400 (Fri, 25 Jul 2025) EllapsedTime: 326.4 seconds RetCode: 0 Status: OK PackageFile: ReactomeGSA_1.23.0.tar.gz PackageFileSize: 377.5 KiB