Package: ReUseData Version: 1.9.0 Command: /home/biocbuild/R/R/bin/R CMD INSTALL ReUseData StartedAt: 2025-10-16 21:24:25 -0000 (Thu, 16 Oct 2025) EndedAt: 2025-10-16 21:24:50 -0000 (Thu, 16 Oct 2025) EllapsedTime: 25.2 seconds RetCode: 0 Status: OK