Package: ReUseData Version: 1.9.0 Command: /home/biocbuild/R/R/bin/R CMD build --keep-empty-dirs --no-resave-data ReUseData StartedAt: 2025-10-17 03:57:19 -0000 (Fri, 17 Oct 2025) EndedAt: 2025-10-17 03:58:29 -0000 (Fri, 17 Oct 2025) EllapsedTime: 70.0 seconds RetCode: 0 Status: OK PackageFile: ReUseData_1.9.0.tar.gz PackageFileSize: 1.088 MiB