Package: ReUseData Version: 1.9.0 Command: /Library/Frameworks/R.framework/Resources/bin/R CMD INSTALL ReUseData StartedAt: 2025-05-09 15:07:09 -0400 (Fri, 09 May 2025) EndedAt: 2025-05-09 15:07:17 -0400 (Fri, 09 May 2025) EllapsedTime: 8.0 seconds RetCode: 0 Status: OK