Package: ReUseData Version: 1.9.0 Command: /Library/Frameworks/R.framework/Resources/bin/R CMD build --keep-empty-dirs --no-resave-data ReUseData StartedAt: 2025-05-09 17:30:18 -0400 (Fri, 09 May 2025) EndedAt: 2025-05-09 17:30:43 -0400 (Fri, 09 May 2025) EllapsedTime: 25.3 seconds RetCode: 1 Status: ERROR PackageFile: None PackageFileSize: NA