Package: Rdisop Version: 1.69.2 Command: chmod a+r Rdisop -R && F:\biocbuild\bbs-3.22-bioc\R\bin\R.exe CMD build --keep-empty-dirs --no-resave-data Rdisop StartedAt: 2025-08-14 22:40:03 -0400 (Thu, 14 Aug 2025) EndedAt: 2025-08-14 22:41:29 -0400 (Thu, 14 Aug 2025) EllapsedTime: 86.6 seconds RetCode: 0 Status: OK PackageFile: Rdisop_1.69.2.tar.gz PackageFileSize: 705.2 KiB