Package: Rdisop Version: 1.67.5 Command: E:\biocbuild\bbs-3.21-bioc\R\bin\R.exe CMD INSTALL Rdisop StartedAt: 2025-02-03 15:33:13 -0500 (Mon, 03 Feb 2025) EndedAt: 2025-02-03 15:35:11 -0500 (Mon, 03 Feb 2025) EllapsedTime: 118.0 seconds RetCode: 0 Status: OK