Package: Rdisop Version: 1.67.5 Command: rm -rf Rdisop.buildbin-libdir && mkdir Rdisop.buildbin-libdir && E:\biocbuild\bbs-3.21-bioc\R\bin\R.exe CMD INSTALL --build --library=Rdisop.buildbin-libdir Rdisop_1.67.5.tar.gz StartedAt: 2025-02-06 08:48:01 -0500 (Thu, 06 Feb 2025) EndedAt: 2025-02-06 08:49:31 -0500 (Thu, 06 Feb 2025) EllapsedTime: 89.9 seconds RetCode: 0 Status: OK PackageFile: Rdisop_1.67.5.zip PackageFileSize: 568 KiB