Package: Rdisop Version: 1.67.5 Command: /Library/Frameworks/R.framework/Resources/bin/R CMD INSTALL Rdisop StartedAt: 2025-02-03 15:09:32 -0500 (Mon, 03 Feb 2025) EndedAt: 2025-02-03 15:10:12 -0500 (Mon, 03 Feb 2025) EllapsedTime: 39.3 seconds RetCode: 0 Status: OK