Package: Rdisop Version: 1.67.5 Command: /Library/Frameworks/R.framework/Resources/bin/R CMD check --install=check:Rdisop.install-out.txt --library=/Library/Frameworks/R.framework/Resources/library --no-vignettes --timings Rdisop_1.67.5.tar.gz StartedAt: 2025-02-03 22:44:52 -0500 (Mon, 03 Feb 2025) EndedAt: 2025-02-03 22:45:31 -0500 (Mon, 03 Feb 2025) EllapsedTime: 39.6 seconds RetCode: 0 Status: WARNINGS CheckDir: Rdisop.Rcheck Warnings: 1