Package: Rdisop Version: 1.67.5 Command: /Library/Frameworks/R.framework/Resources/bin/R CMD build --keep-empty-dirs --no-resave-data Rdisop StartedAt: 2025-02-03 18:03:55 -0500 (Mon, 03 Feb 2025) EndedAt: 2025-02-03 18:04:40 -0500 (Mon, 03 Feb 2025) EllapsedTime: 44.7 seconds RetCode: 0 Status: OK PackageFile: Rdisop_1.67.5.tar.gz PackageFileSize: 714.6 KiB