Package: Rdisop Version: 1.67.5 Command: rm -rf Rdisop.buildbin-libdir && mkdir Rdisop.buildbin-libdir && /Users/biocbuild/BBS/utils/build-universal.sh Rdisop_1.67.5.tar.gz /Library/Frameworks/R.framework/Resources/bin/R Rdisop.buildbin-libdir StartedAt: 2025-02-04 00:51:04 -0500 (Tue, 04 Feb 2025) EndedAt: 2025-02-04 00:51:52 -0500 (Tue, 04 Feb 2025) EllapsedTime: 47.4 seconds RetCode: 0 Status: OK PackageFile: Rdisop_1.67.5.tgz PackageFileSize: 244.6 KiB