Package: Rdisop Version: 1.67.5 Command: /Library/Frameworks/R.framework/Resources/bin/R CMD check --install=check:Rdisop.install-out.txt --library=/Library/Frameworks/R.framework/Resources/library --no-vignettes --timings Rdisop_1.67.5.tar.gz StartedAt: 2025-02-03 21:29:35 -0500 (Mon, 03 Feb 2025) EndedAt: 2025-02-03 21:29:49 -0500 (Mon, 03 Feb 2025) EllapsedTime: 14.2 seconds RetCode: 0 Status: WARNINGS CheckDir: Rdisop.Rcheck Warnings: 1