Package: Rdisop Version: 1.67.5 Command: rm -rf Rdisop.buildbin-libdir && mkdir Rdisop.buildbin-libdir && /Users/biocbuild/BBS/utils/build-universal.sh Rdisop_1.67.5.tar.gz /Library/Frameworks/R.framework/Resources/bin/R Rdisop.buildbin-libdir StartedAt: 2025-02-03 23:02:40 -0500 (Mon, 03 Feb 2025) EndedAt: 2025-02-03 23:02:53 -0500 (Mon, 03 Feb 2025) EllapsedTime: 13.4 seconds RetCode: 0 Status: OK PackageFile: Rdisop_1.67.5.tgz PackageFileSize: 233.1 KiB