Package: Rcwl Version: 1.23.0 Command: /Library/Frameworks/R.framework/Resources/bin/R CMD check --install=check:Rcwl.install-out.txt --library=/Library/Frameworks/R.framework/Resources/library --no-vignettes --timings Rcwl_1.23.0.tar.gz StartedAt: 2025-02-03 22:44:38 -0500 (Mon, 03 Feb 2025) EndedAt: 2025-02-03 22:46:31 -0500 (Mon, 03 Feb 2025) EllapsedTime: 113.0 seconds RetCode: 0 Status: OK CheckDir: Rcwl.Rcheck Warnings: 0