Package: Rcwl Version: 1.23.0 Command: /Library/Frameworks/R.framework/Resources/bin/R CMD build --keep-empty-dirs --no-resave-data Rcwl StartedAt: 2025-02-03 17:57:50 -0500 (Mon, 03 Feb 2025) EndedAt: 2025-02-03 17:58:09 -0500 (Mon, 03 Feb 2025) EllapsedTime: 18.2 seconds RetCode: 0 Status: OK PackageFile: Rcwl_1.23.0.tar.gz PackageFileSize: 1.024 MiB