Package: Rcwl Version: 1.27.0 Maintainer: Qiang Hu MaintainerEmail: qiang.hu at roswellpark.org git_url: https://git.bioconductor.org/packages/Rcwl git_branch: devel git_last_commit: 30294bd git_last_commit_date: 2025-10-29 10:50:00 -0400 (Wed, 29 Oct 2025)