Package: Rcpi Version: 1.43.0 Command: chmod a+r Rcpi -R && E:\biocbuild\bbs-3.21-bioc\R\bin\R.exe CMD build --keep-empty-dirs --no-resave-data Rcpi StartedAt: 2025-02-03 21:16:57 -0500 (Mon, 03 Feb 2025) EndedAt: 2025-02-03 21:18:10 -0500 (Mon, 03 Feb 2025) EllapsedTime: 73.5 seconds RetCode: 0 Status: OK PackageFile: Rcpi_1.43.0.tar.gz PackageFileSize: 2.97 MiB