Package: Rcpi Version: 1.43.0 Command: /Library/Frameworks/R.framework/Resources/bin/R CMD check --install=check:Rcpi.install-out.txt --library=/Library/Frameworks/R.framework/Resources/library --no-vignettes --timings Rcpi_1.43.0.tar.gz StartedAt: 2025-02-03 22:44:34 -0500 (Mon, 03 Feb 2025) EndedAt: 2025-02-03 22:46:56 -0500 (Mon, 03 Feb 2025) EllapsedTime: 142.1 seconds RetCode: 0 Status: OK CheckDir: Rcpi.Rcheck Warnings: 0