Package: Rcollectl Version: 1.9.0 Command: /home/biocbuild/bbs-3.22-bioc/R/bin/R CMD build --keep-empty-dirs --no-resave-data --md5 Rcollectl StartedAt: 2025-10-09 19:35:48 -0400 (Thu, 09 Oct 2025) EndedAt: 2025-10-09 19:36:12 -0400 (Thu, 09 Oct 2025) EllapsedTime: 24.0 seconds RetCode: 0 Status: OK PackageFile: Rcollectl_1.9.0.tar.gz PackageFileSize: 541.2 KiB