Package: RcisTarget Version: 1.29.0 Command: /Library/Frameworks/R.framework/Resources/bin/R CMD check --install=check:RcisTarget.install-out.txt --library=/Library/Frameworks/R.framework/Resources/library --no-vignettes --timings RcisTarget_1.29.0.tar.gz StartedAt: 2025-04-30 22:51:50 -0400 (Wed, 30 Apr 2025) EndedAt: 2025-04-30 22:58:23 -0400 (Wed, 30 Apr 2025) EllapsedTime: 393.4 seconds RetCode: 0 Status: OK CheckDir: RcisTarget.Rcheck Warnings: 0