Package: Rbowtie2 Version: 2.15.0 Command: rm -rf Rbowtie2.buildbin-libdir && mkdir Rbowtie2.buildbin-libdir && F:\biocbuild\bbs-3.22-bioc\R\bin\R.exe CMD INSTALL --build --library=Rbowtie2.buildbin-libdir Rbowtie2_2.15.0.tar.gz StartedAt: 2025-08-15 11:03:57 -0400 (Fri, 15 Aug 2025) EndedAt: 2025-08-15 11:10:03 -0400 (Fri, 15 Aug 2025) EllapsedTime: 366.3 seconds RetCode: 0 Status: OK PackageFile: Rbowtie2_2.15.0.zip PackageFileSize: 19.42 MiB