Package: Rbowtie2 Version: 2.13.3 Command: rm -rf Rbowtie2.buildbin-libdir && mkdir Rbowtie2.buildbin-libdir && E:\biocbuild\bbs-3.21-bioc\R\bin\R.exe CMD INSTALL --build --library=Rbowtie2.buildbin-libdir Rbowtie2_2.13.3.tar.gz StartedAt: 2025-02-04 08:42:24 -0500 (Tue, 04 Feb 2025) EndedAt: 2025-02-04 08:47:45 -0500 (Tue, 04 Feb 2025) EllapsedTime: 321.4 seconds RetCode: 0 Status: OK PackageFile: Rbowtie2_2.13.3.zip PackageFileSize: 18.42 MiB