Package: Rbowtie2 Version: 2.13.3 Command: /home/biocbuild/bbs-3.21-bioc/R/bin/R CMD check --install=check:Rbowtie2.install-out.txt --library=/home/biocbuild/bbs-3.21-bioc/R/site-library --timings Rbowtie2_2.13.3.tar.gz StartedAt: 2025-02-15 01:23:02 -0500 (Sat, 15 Feb 2025) EndedAt: 2025-02-15 01:23:30 -0500 (Sat, 15 Feb 2025) EllapsedTime: 28.1 seconds RetCode: 0 Status: OK CheckDir: Rbowtie2.Rcheck Warnings: 0