Package: Rbowtie Version: 1.49.0 Command: /home/biocbuild/bbs-3.22-bioc/R/bin/R CMD INSTALL Rbowtie StartedAt: 2025-10-08 15:16:08 -0400 (Wed, 08 Oct 2025) EndedAt: 2025-10-08 15:18:00 -0400 (Wed, 08 Oct 2025) EllapsedTime: 112.2 seconds RetCode: 0 Status: OK