Package: Rbowtie Version: 1.49.0 Command: /home/biocbuild/bbs-3.22-bioc/R/bin/R CMD build --keep-empty-dirs --no-resave-data --md5 Rbowtie StartedAt: 2025-10-08 19:55:16 -0400 (Wed, 08 Oct 2025) EndedAt: 2025-10-08 19:56:47 -0400 (Wed, 08 Oct 2025) EllapsedTime: 91.1 seconds RetCode: 0 Status: OK PackageFile: Rbowtie_1.49.0.tar.gz PackageFileSize: 906.1 KiB