Package: Rbowtie Version: 1.49.0 Command: rm -rf Rbowtie.buildbin-libdir && mkdir Rbowtie.buildbin-libdir && /Users/biocbuild/BBS/utils/build-universal.sh Rbowtie_1.49.0.tar.gz /Library/Frameworks/R.framework/Resources/bin/R Rbowtie.buildbin-libdir StartedAt: 2025-10-09 02:49:47 -0400 (Thu, 09 Oct 2025) EndedAt: 2025-10-09 02:51:44 -0400 (Thu, 09 Oct 2025) EllapsedTime: 116.4 seconds RetCode: 0 Status: OK PackageFile: Rbowtie_1.49.0.tgz PackageFileSize: 1.279 MiB