Package: Rbec Version: 1.17.0 Command: /home/biocbuild/bbs-3.22-bioc/R/bin/R CMD INSTALL Rbec StartedAt: 2025-10-03 15:51:54 -0400 (Fri, 03 Oct 2025) EndedAt: 2025-10-03 15:52:34 -0400 (Fri, 03 Oct 2025) EllapsedTime: 39.4 seconds RetCode: 0 Status: OK