Package: Rbec Version: 1.17.0 Command: rm -rf Rbec.buildbin-libdir && mkdir Rbec.buildbin-libdir && /Users/biocbuild/BBS/utils/build-universal.sh Rbec_1.17.0.tar.gz /Library/Frameworks/R.framework/Resources/bin/R Rbec.buildbin-libdir StartedAt: 2025-10-06 02:18:45 -0400 (Mon, 06 Oct 2025) EndedAt: 2025-10-06 02:19:45 -0400 (Mon, 06 Oct 2025) EllapsedTime: 59.8 seconds RetCode: 0 Status: OK PackageFile: Rbec_1.17.0.tgz PackageFileSize: 1.529 MiB