Package: RbcBook1 Version: 1.75.0 Command: /Library/Frameworks/R.framework/Resources/bin/R CMD INSTALL RbcBook1 StartedAt: 2025-02-02 15:05:39 -0500 (Sun, 02 Feb 2025) EndedAt: 2025-02-02 15:06:10 -0500 (Sun, 02 Feb 2025) EllapsedTime: 30.5 seconds RetCode: 0 Status: OK