Package: RbcBook1 Version: 1.75.0 Command: /Library/Frameworks/R.framework/Resources/bin/R CMD check --install=check:RbcBook1.install-out.txt --library=/Library/Frameworks/R.framework/Resources/library --no-vignettes --timings RbcBook1_1.75.0.tar.gz StartedAt: 2025-02-02 22:32:35 -0500 (Sun, 02 Feb 2025) EndedAt: 2025-02-02 22:33:13 -0500 (Sun, 02 Feb 2025) EllapsedTime: 37.8 seconds RetCode: 0 Status: WARNINGS CheckDir: RbcBook1.Rcheck Warnings: 1