Package: RbcBook1 Version: 1.75.0 Command: /Library/Frameworks/R.framework/Resources/bin/R CMD build --keep-empty-dirs --no-resave-data RbcBook1 StartedAt: 2025-02-02 17:52:32 -0500 (Sun, 02 Feb 2025) EndedAt: 2025-02-02 17:52:44 -0500 (Sun, 02 Feb 2025) EllapsedTime: 12.6 seconds RetCode: 0 Status: OK PackageFile: RbcBook1_1.75.0.tar.gz PackageFileSize: 6.412 MiB