Package: RbcBook1 Version: 1.75.0 Command: /Library/Frameworks/R.framework/Resources/bin/R CMD INSTALL RbcBook1 StartedAt: 2025-02-20 15:02:12 -0500 (Thu, 20 Feb 2025) EndedAt: 2025-02-20 15:02:13 -0500 (Thu, 20 Feb 2025) EllapsedTime: 1.8 seconds RetCode: 0 Status: OK