Package: RbcBook1 Version: 1.75.0 Command: rm -rf RbcBook1.buildbin-libdir && mkdir RbcBook1.buildbin-libdir && /Users/biocbuild/BBS/utils/build-universal.sh RbcBook1_1.75.0.tar.gz /Library/Frameworks/R.framework/Resources/bin/R RbcBook1.buildbin-libdir StartedAt: 2025-02-20 22:31:10 -0500 (Thu, 20 Feb 2025) EndedAt: 2025-02-20 22:31:13 -0500 (Thu, 20 Feb 2025) EllapsedTime: 3.1 seconds RetCode: 0 Status: OK PackageFile: RbcBook1_1.75.0.tgz PackageFileSize: 6.45 MiB