Package: Rarr Version: 1.9.16 Command: /home/biocbuild/bbs-3.22-bioc/R/bin/R CMD INSTALL Rarr StartedAt: 2025-10-03 15:14:37 -0400 (Fri, 03 Oct 2025) EndedAt: 2025-10-03 15:15:40 -0400 (Fri, 03 Oct 2025) EllapsedTime: 62.6 seconds RetCode: 0 Status: OK