Package: Rarr Version: 1.9.13 Command: /home/biocbuild/bbs-3.22-bioc/R/bin/R CMD build --keep-empty-dirs --no-resave-data --md5 Rarr StartedAt: 2025-10-02 19:30:06 -0400 (Thu, 02 Oct 2025) EndedAt: 2025-10-02 19:31:27 -0400 (Thu, 02 Oct 2025) EllapsedTime: 81.0 seconds RetCode: 1 Status: ERROR PackageFile: None PackageFileSize: NA