Package: Rarr Version: 1.11.8 Command: /home/biocbuild/bbs-3.23-bioc/R/bin/R CMD INSTALL Rarr StartedAt: 2025-11-23 15:16:35 -0500 (Sun, 23 Nov 2025) EndedAt: 2025-11-23 15:17:40 -0500 (Sun, 23 Nov 2025) EllapsedTime: 65.0 seconds RetCode: 0 Status: OK