Package: Rarr Version: 1.9.13 Command: rm -rf Rarr.buildbin-libdir && mkdir Rarr.buildbin-libdir && /Users/biocbuild/BBS/utils/build-universal.sh Rarr_1.9.13.tar.gz /Library/Frameworks/R.framework/Resources/bin/R Rarr.buildbin-libdir StartedAt: 2025-10-02 02:08:27 -0400 (Thu, 02 Oct 2025) EndedAt: 2025-10-02 02:10:08 -0400 (Thu, 02 Oct 2025) EllapsedTime: 101.6 seconds RetCode: 0 Status: OK PackageFile: Rarr_1.9.13.tgz PackageFileSize: 1.577 MiB