Package: RareVariantVis Version: 2.37.0 Command: /Library/Frameworks/R.framework/Resources/bin/R CMD build --keep-empty-dirs --no-resave-data RareVariantVis StartedAt: 2025-05-21 17:14:44 -0400 (Wed, 21 May 2025) EndedAt: 2025-05-21 17:15:09 -0400 (Wed, 21 May 2025) EllapsedTime: 24.3 seconds RetCode: 0 Status: OK PackageFile: RareVariantVis_2.37.0.tar.gz PackageFileSize: 2.755 MiB