Package: RankProd Version: 3.33.0 Command: /Library/Frameworks/R.framework/Resources/bin/R CMD INSTALL RankProd StartedAt: 2025-01-10 15:02:00 -0500 (Fri, 10 Jan 2025) EndedAt: 2025-01-10 15:02:05 -0500 (Fri, 10 Jan 2025) EllapsedTime: 4.7 seconds RetCode: 0 Status: OK