Package: RandomWalkRestartMH Version: 1.25.1 Command: /home/biocbuild/bbs-3.21-bioc/R/bin/R CMD INSTALL RandomWalkRestartMH StartedAt: 2024-10-24 03:27:34 -0400 (Thu, 24 Oct 2024) EndedAt: 2024-10-24 03:27:36 -0400 (Thu, 24 Oct 2024) EllapsedTime: 2.0 seconds RetCode: 1 Status: ERROR