Package: RaggedExperiment Version: 1.33.7 Command: chmod a+r RaggedExperiment -R && F:\biocbuild\bbs-3.22-bioc\R\bin\R.exe CMD build --keep-empty-dirs --no-resave-data RaggedExperiment StartedAt: 2025-08-14 22:35:13 -0400 (Thu, 14 Aug 2025) EndedAt: 2025-08-14 22:36:14 -0400 (Thu, 14 Aug 2025) EllapsedTime: 61.3 seconds RetCode: 0 Status: OK PackageFile: RaggedExperiment_1.33.7.tar.gz PackageFileSize: 670.7 KiB