Package: RaggedExperiment Version: 1.33.7 Command: /home/biocbuild/bbs-3.22-bioc/R/bin/R CMD INSTALL RaggedExperiment StartedAt: 2025-10-03 15:16:43 -0400 (Fri, 03 Oct 2025) EndedAt: 2025-10-03 15:17:05 -0400 (Fri, 03 Oct 2025) EllapsedTime: 22.4 seconds RetCode: 0 Status: OK