Back to Build/check report for BioC 3.23:   simplified   long
ABCDEFGHIJKLMNOPQ[R]STUVWXYZ

This page was generated on 2025-11-05 11:32 -0500 (Wed, 05 Nov 2025).

HostnameOSArch (*)R versionInstalled pkgs
nebbiolo1Linux (Ubuntu 24.04.3 LTS)x86_64R Under development (unstable) (2025-10-20 r88955) -- "Unsuffered Consequences" 4818
Click on any hostname to see more info about the system (e.g. compilers)      (*) as reported by 'uname -p', except on Windows and Mac OS X

All results for package RaggedExperiment


To the developers/maintainers of the RaggedExperiment package:
- Allow up to 24 hours (and sometimes 48 hours) for your latest push to git@git.bioconductor.org:packages/RaggedExperiment.git to reflect on this report. See Troubleshooting Build Report for more information.
- Use the following Renviron settings to reproduce errors and warnings.
- If 'R CMD check' started to fail recently on the Linux builder(s) over a missing dependency, add the missing dependency to 'Suggests:' in your DESCRIPTION file. See Renviron.bioc for more information.

raw results

Package 1676/2323HostnameOS / ArchINSTALLBUILDCHECKBUILD BIN
RaggedExperiment 1.35.0  (landing page)
Marcel Ramos
Snapshot Date: 2025-11-04 13:40 -0500 (Tue, 04 Nov 2025)
git_url: https://git.bioconductor.org/packages/RaggedExperiment
git_branch: devel
git_last_commit: efd60e0
git_last_commit_date: 2025-10-29 10:37:59 -0500 (Wed, 29 Oct 2025)
nebbiolo1Linux (Ubuntu 24.04.3 LTS) / x86_64  OK    OK    OK  UNNEEDED, same version is already published



Results for Bioconductor software packages that depend directly on package RaggedExperiment

QUICK STATSOS / ArchINSTALLBUILDCHECKBUILD BIN
nebbiolo1Linux (Ubuntu 24.04.3 LTS) / x86_64
024
042
0011
Package 1/6HostnameOS / ArchINSTALLBUILDCHECKBUILD BIN
cBioPortalData 2.23.0  (landing page)
Marcel Ramos
git_last_commit: eaed633
git_last_commit_date: 2025-10-29 10:59:37 -0500
nebbiolo1Linux (Ubuntu 24.04.3 LTS) / x86_64  ERROR    ERROR  skipped
Package 2/6HostnameOS / ArchINSTALLBUILDCHECKBUILD BIN
CNVRanger 1.27.0  (landing page)
Ludwig Geistlinger
git_last_commit: 16600ca
git_last_commit_date: 2025-10-29 10:49:57 -0500
nebbiolo1Linux (Ubuntu 24.04.3 LTS) / x86_64  OK    ERROR  skipped
Package 3/6HostnameOS / ArchINSTALLBUILDCHECKBUILD BIN
omicsPrint 1.31.0  (landing page)
Davy Cats
git_last_commit: a7fe1fa
git_last_commit_date: 2025-10-29 10:42:25 -0500
nebbiolo1Linux (Ubuntu 24.04.3 LTS) / x86_64  OK    OK    WARNINGS  UNNEEDED, same version is already published
Package 4/6HostnameOS / ArchINSTALLBUILDCHECKBUILD BIN
RTCGAToolbox 2.41.0  (landing page)
Marcel Ramos
git_last_commit: d55f300
git_last_commit_date: 2025-10-29 10:26:09 -0500
nebbiolo1Linux (Ubuntu 24.04.3 LTS) / x86_64  OK    ERROR  skipped
Package 5/6HostnameOS / ArchINSTALLBUILDCHECKBUILD BIN
TCGAutils 1.31.0  (landing page)
Marcel Ramos
git_last_commit: 4b0da87
git_last_commit_date: 2025-10-29 10:45:09 -0500
nebbiolo1Linux (Ubuntu 24.04.3 LTS) / x86_64  ERROR    ERROR  skipped
Package 6/6HostnameOS / ArchINSTALLBUILDCHECKBUILD BIN
terraTCGAdata 1.15.0  (landing page)
Marcel Ramos
git_last_commit: 752f735
git_last_commit_date: 2025-10-29 11:16:25 -0500
nebbiolo1Linux (Ubuntu 24.04.3 LTS) / x86_64  OK    OK    OK  NO, package depends on 'TCGAutils' which is not available