Package: RadioGx Version: 2.13.0 Command: /home/biocbuild/bbs-3.22-bioc/R/bin/R CMD INSTALL RadioGx StartedAt: 2025-10-07 15:23:28 -0400 (Tue, 07 Oct 2025) EndedAt: 2025-10-07 15:24:04 -0400 (Tue, 07 Oct 2025) EllapsedTime: 36.5 seconds RetCode: 0 Status: OK